BEGIN:VCALENDAR
VERSION:2.0
PRODID:-//Team Chase Foundation - ECPv6.15.20//NONSGML v1.0//EN
CALSCALE:GREGORIAN
METHOD:PUBLISH
X-ORIGINAL-URL:https://www.teamchasefoundation.org
X-WR-CALDESC:Events for Team Chase Foundation
REFRESH-INTERVAL;VALUE=DURATION:PT1H
X-Robots-Tag:noindex
X-PUBLISHED-TTL:PT1H
BEGIN:VTIMEZONE
TZID:America/New_York
BEGIN:DAYLIGHT
TZOFFSETFROM:-0500
TZOFFSETTO:-0400
TZNAME:EDT
DTSTART:20230312T070000
END:DAYLIGHT
BEGIN:STANDARD
TZOFFSETFROM:-0400
TZOFFSETTO:-0500
TZNAME:EST
DTSTART:20231105T060000
END:STANDARD
BEGIN:DAYLIGHT
TZOFFSETFROM:-0500
TZOFFSETTO:-0400
TZNAME:EDT
DTSTART:20240310T070000
END:DAYLIGHT
BEGIN:STANDARD
TZOFFSETFROM:-0400
TZOFFSETTO:-0500
TZNAME:EST
DTSTART:20241103T060000
END:STANDARD
BEGIN:DAYLIGHT
TZOFFSETFROM:-0500
TZOFFSETTO:-0400
TZNAME:EDT
DTSTART:20250309T070000
END:DAYLIGHT
BEGIN:STANDARD
TZOFFSETFROM:-0400
TZOFFSETTO:-0500
TZNAME:EST
DTSTART:20251102T060000
END:STANDARD
END:VTIMEZONE
BEGIN:VEVENT
DTSTART;TZID=America/New_York:20240920T180000
DTEND;TZID=America/New_York:20240920T200000
DTSTAMP:20260419T103725
CREATED:20250518T060700Z
LAST-MODIFIED:20250529T155302Z
UID:10000020-1726855200-1726862400@www.teamchasefoundation.org
SUMMARY:Sunset Cruise Celebration
DESCRIPTION:A Journey of Gratitude\, Legacy\, and Community\nAn Evening of Unity\, Kindness & Remembrance on the Water \nThe Team Chase Foundation’s Sunset Cruise Celebration is more than a scenic ride—it’s an uplifting and heartfelt gathering of family\, friends\, and supporters honoring the legacy of Chase Soares. As the sun dips below the horizon\, guests aboard this meaningful cruise experience music\, laughter\, connection\, and shared gratitude. \nEvent Overview: Why It Matters\nSet against the backdrop of Cape Cod’s coastal beauty\, the Sunset Cruise offers a serene and symbolic space to reflect on Chase’s lasting impact. Known for his humility\, kindness\, and generous spirit\, Chase continues to inspire through this memorable evening event. Guests unite to celebrate his life with joy and remembrance\, in true Team Chase fashion—through community\, compassion\, and celebration. \nWhat to Expect on the Sunset Cruise\nLive Music & Entertainment: Feel the rhythm and let your heart soar with curated music and soundscapes as the cruise drifts into golden hour. \nStorytelling & Reflection: Hear from Chase’s family\, scholarship recipients\, and friends who share personal stories and messages of kindness. \nOcean Views & Serenity: Enjoy breathtaking sunset views symbolizing Chase’s light continuing to shine far and wide. \nMoments of Gratitude: Participate in a gratitude circle\, where passengers express what Chase’s legacy means to them. \nCommunity Building: Meet new friends\, connect with familiar faces\, and become part of the growing movement to Care\, Help And Share Everyday. \nA Tribute to Legacy\nThe Sunset Cruise is also a time to spotlight the Foundation’s initiatives: \n\nYouth scholarships\nKindness outreach programs\nActs of service across local communities\n\nBy attending\, guests contribute directly to the Foundation’s mission of uplifting under-resourced youth and inspiring kindness in schools and neighborhoods. \n“He’s with us in every wave\, every breeze\, every act of kindness.”\n– Brooke Soares \nJoin the Movement\nThis cruise isn’t just a ride—it’s a reflection of Chase’s energy\, love\, and legacy. Be part of something meaningful\, and help continue the ripple effect of kindness. \nLearn more\n#LetItBounce #SunsetWithChase #TeamChaseFoundation
URL:https://www.teamchasefoundation.org/event/sunset-cruise-celebration/
LOCATION:Rockland Trust Bank\, Falmouth\, MA\, United States
ATTACH;FMTTYPE=image/jpeg:https://www.teamchasefoundation.org/wp-content/uploads/2025/05/Sunset-cruise-celebration.jpg
END:VEVENT
END:VCALENDAR