BEGIN:VCALENDAR
VERSION:2.0
PRODID:-//Team Chase Foundation - ECPv6.15.20//NONSGML v1.0//EN
CALSCALE:GREGORIAN
METHOD:PUBLISH
X-ORIGINAL-URL:https://www.teamchasefoundation.org
X-WR-CALDESC:Events for Team Chase Foundation
REFRESH-INTERVAL;VALUE=DURATION:PT1H
X-Robots-Tag:noindex
X-PUBLISHED-TTL:PT1H
BEGIN:VTIMEZONE
TZID:America/New_York
BEGIN:DAYLIGHT
TZOFFSETFROM:-0500
TZOFFSETTO:-0400
TZNAME:EDT
DTSTART:20230312T070000
END:DAYLIGHT
BEGIN:STANDARD
TZOFFSETFROM:-0400
TZOFFSETTO:-0500
TZNAME:EST
DTSTART:20231105T060000
END:STANDARD
BEGIN:DAYLIGHT
TZOFFSETFROM:-0500
TZOFFSETTO:-0400
TZNAME:EDT
DTSTART:20240310T070000
END:DAYLIGHT
BEGIN:STANDARD
TZOFFSETFROM:-0400
TZOFFSETTO:-0500
TZNAME:EST
DTSTART:20241103T060000
END:STANDARD
BEGIN:DAYLIGHT
TZOFFSETFROM:-0500
TZOFFSETTO:-0400
TZNAME:EDT
DTSTART:20250309T070000
END:DAYLIGHT
BEGIN:STANDARD
TZOFFSETFROM:-0400
TZOFFSETTO:-0500
TZNAME:EST
DTSTART:20251102T060000
END:STANDARD
END:VTIMEZONE
BEGIN:VEVENT
DTSTART;VALUE=DATE:20241201
DTEND;VALUE=DATE:20241226
DTSTAMP:20260421T125614
CREATED:20250518T062721Z
LAST-MODIFIED:20250529T153419Z
UID:10000023-1733011200-1735171199@www.teamchasefoundation.org
SUMMARY:Holiday Cheer & Toy Drives
DESCRIPTION:Bringing Joy\, Unity\, and Kindness to the Season\nThe Team Chase Foundation wrapped the year in true Chase spirit—by spreading joy\, generosity\, and heartfelt connection throughout the holidays. From toy drives and parades to surprise giveaways\, the foundation shared more than gifts: it delivered hope and community. \n3rd Annual Toy Drive with Falmouth Police Department\nIn a powerful community collaboration\, the 3rd Annual Team Chase Toy Drive returned in partnership with the Falmouth Police Department\, supporting families in need across Cape Cod. \nThe drive collected hundreds of toys\, ensuring local children experienced the magic of the season—no matter their circumstances. Volunteers\, donors\, and officers united to show what happens when a community leads with kindness. \n“It’s not just about toys—it’s about showing families they’re not alone during the holidays.” \nChristmas Parades & Public Appearances\nSpreading cheer in motion\, the foundation proudly participated in local Christmas parades\, waving\, walking\, and connecting with neighbors of all ages. Decked in Team Chase colors and surrounded by volunteers\, the float served as a moving message of joy\, remembrance\, and giving. \nLimited-Edition Kindness Snowballs\nAdding a surprise twist to the season\, the foundation launched limited-edition “Kindness Snowballs”\, a symbolic and fun giveaway shared at events and through school visits. Each snowball encouraged the receiver to perform an act of kindness—keeping Chase’s mission alive\, one small gesture at a time. \nChildren and adults alike were thrilled to receive them\, proving that sometimes the smallest gifts carry the biggest meaning. \nWhy It Matters\nThe holiday season can be difficult for many—but through giving\, presence\, and compassion\, the Team Chase Foundation helped ensure that kindness remained at the center of it all. Every act\, parade wave\, and wrapped toy was another reminder that Chase’s spirit continues to light up lives. \nSee highlights and photo galleries at: www.teamchasefoundation.org\nWant to help next year? Volunteer or sponsor a gift drive today! \nLet’s keep the cheer alive. Let’s get it! Let’s go!\n#HolidayKindness #ChaseJoy #LetItBounce #TeamChaseFoundation
URL:https://www.teamchasefoundation.org/event/holiday-cheer-toy-drives/
LOCATION:Falmouth & Mashpee\, MA
ATTACH;FMTTYPE=image/jpeg:https://www.teamchasefoundation.org/wp-content/uploads/2025/05/Holiday-cheer-toy-drives.jpg
END:VEVENT
END:VCALENDAR