BEGIN:VCALENDAR
VERSION:2.0
PRODID:-//Team Chase Foundation - ECPv6.15.20//NONSGML v1.0//EN
CALSCALE:GREGORIAN
METHOD:PUBLISH
X-ORIGINAL-URL:https://www.teamchasefoundation.org
X-WR-CALDESC:Events for Team Chase Foundation
REFRESH-INTERVAL;VALUE=DURATION:PT1H
X-Robots-Tag:noindex
X-PUBLISHED-TTL:PT1H
BEGIN:VTIMEZONE
TZID:America/New_York
BEGIN:DAYLIGHT
TZOFFSETFROM:-0500
TZOFFSETTO:-0400
TZNAME:EDT
DTSTART:20230312T070000
END:DAYLIGHT
BEGIN:STANDARD
TZOFFSETFROM:-0400
TZOFFSETTO:-0500
TZNAME:EST
DTSTART:20231105T060000
END:STANDARD
BEGIN:DAYLIGHT
TZOFFSETFROM:-0500
TZOFFSETTO:-0400
TZNAME:EDT
DTSTART:20240310T070000
END:DAYLIGHT
BEGIN:STANDARD
TZOFFSETFROM:-0400
TZOFFSETTO:-0500
TZNAME:EST
DTSTART:20241103T060000
END:STANDARD
BEGIN:DAYLIGHT
TZOFFSETFROM:-0500
TZOFFSETTO:-0400
TZNAME:EDT
DTSTART:20250309T070000
END:DAYLIGHT
BEGIN:STANDARD
TZOFFSETFROM:-0400
TZOFFSETTO:-0500
TZNAME:EST
DTSTART:20251102T060000
END:STANDARD
END:VTIMEZONE
BEGIN:VEVENT
DTSTART;VALUE=DATE:20241015
DTEND;VALUE=DATE:20241016
DTSTAMP:20260421T101922
CREATED:20250518T061333Z
LAST-MODIFIED:20250529T153256Z
UID:10000021-1728950400-1729036799@www.teamchasefoundation.org
SUMMARY:Inspiring Kindness in Schools
DESCRIPTION:Empowering Youth Through Basketball and Belief\nThe Team Chase Foundation continues to spread its mission of compassion\, community\, and character through one of the places Chase Soares cherished most: schools. Through this initiative\, the foundation is taking meaningful steps to empower underprivileged youth\, provide equitable access to team sports\, and instill Chase’s values where they matter most—in the hearts of students. \nSponsoring the Next Generation\nIn a powerful extension of its youth outreach\, the Team Chase Foundation proudly sponsored several under-resourced students to join Team Sims AAU Basketball—a competitive athletic program that offers coaching\, mentorship\, discipline\, and family-style support. \nThese scholarships ensure that students who may otherwise face barriers to participation are given the opportunity to: \n\nCompete at a high level\nGain mentorship from positive role models\nBuild confidence\, resilience\, and leadership skills\nLearn and embody the values of kindness\, teamwork\, and sportsmanship\n\n“Chase believed in lifting others—and through this\, we’re lifting the next generation of kind\, strong\, motivated young people.” \nWhy This Matters:\nFor many kids\, sports provide more than exercise—it’s a pathway to community\, education\, and emotional well-being. The Team Chase Foundation is proud to remove financial barriers and open new doors\, honoring Chase’s memory with every game played and every lesson learned. \nThis initiative not only supports players but serves as a living message in schools: that kindness is strength\, and opportunity should never be out of reach. \nJoin the Movement\nTo learn more about how Team Chase is inspiring kindness in classrooms\, on courts\, and beyond—or to support future sponsorships—visit:\nwww.teamchasefoundation.org \nLet’s get it. Let’s go.\n#ChaseKindness #TeamChaseFoundation #LetItBounce
URL:https://www.teamchasefoundation.org/event/school-visits-kindness-day/
LOCATION:Cape Cod\, MA\, United States
ATTACH;FMTTYPE=image/jpeg:https://www.teamchasefoundation.org/wp-content/uploads/2025/05/inspiring-kindness-in-schools-1.jpg
END:VEVENT
END:VCALENDAR