BEGIN:VCALENDAR
VERSION:2.0
PRODID:-//Team Chase Foundation - ECPv6.15.20//NONSGML v1.0//EN
CALSCALE:GREGORIAN
METHOD:PUBLISH
X-WR-CALNAME:Team Chase Foundation
X-ORIGINAL-URL:https://www.teamchasefoundation.org
X-WR-CALDESC:Events for Team Chase Foundation
REFRESH-INTERVAL;VALUE=DURATION:PT1H
X-Robots-Tag:noindex
X-PUBLISHED-TTL:PT1H
BEGIN:VTIMEZONE
TZID:America/New_York
BEGIN:DAYLIGHT
TZOFFSETFROM:-0500
TZOFFSETTO:-0400
TZNAME:EDT
DTSTART:20230312T070000
END:DAYLIGHT
BEGIN:STANDARD
TZOFFSETFROM:-0400
TZOFFSETTO:-0500
TZNAME:EST
DTSTART:20231105T060000
END:STANDARD
BEGIN:DAYLIGHT
TZOFFSETFROM:-0500
TZOFFSETTO:-0400
TZNAME:EDT
DTSTART:20240310T070000
END:DAYLIGHT
BEGIN:STANDARD
TZOFFSETFROM:-0400
TZOFFSETTO:-0500
TZNAME:EST
DTSTART:20241103T060000
END:STANDARD
BEGIN:DAYLIGHT
TZOFFSETFROM:-0500
TZOFFSETTO:-0400
TZNAME:EDT
DTSTART:20250309T070000
END:DAYLIGHT
BEGIN:STANDARD
TZOFFSETFROM:-0400
TZOFFSETTO:-0500
TZNAME:EST
DTSTART:20251102T060000
END:STANDARD
END:VTIMEZONE
BEGIN:VEVENT
DTSTART;TZID=America/New_York:20240610T080000
DTEND;TZID=America/New_York:20240610T170000
DTSTAMP:20260421T103115
CREATED:20250518T054140Z
LAST-MODIFIED:20250529T153100Z
UID:10000017-1718006400-1718038800@www.teamchasefoundation.org
SUMMARY:Honors & Outreach Events
DESCRIPTION:Reflecting\, Recognizing\, and Reaching Out in Chase’s Name\nThroughout the year\, the Team Chase Foundation takes time to honor the memory and legacy of Chase Soares through meaningful honors and outreach moments. These events are not just ceremonial—they are acts of connection\, healing\, and continued kindness that resonate with the heart of Chase’s mission. \nLantern Festival – A Light in the Darkness\nHeld in partnership with local community members\, the Lantern Festival serves as a memorial and celebration of life\, where participants release floating lanterns in honor of loved ones who have passed. \nThis serene and emotional event is a time for reflection and remembrance\, with Chase’s legacy shining bright among the lights. Families gather to share stories\, offer blessings\, and connect through hope as lanterns lift into the night sky—symbolizing that love never leaves us\, and kindness carries on. \n“Each light we release carries our love\, our prayers\, and our promise to keep Chase’s legacy alive.” \nPlymouth State Memorial Brick Dedication\nIn a touching tribute to Chase’s impact\, a memorial brick has been permanently installed at Plymouth State University—a place where his academic\, athletic\, and personal journey made lasting impressions. \nThe engraved brick sits among a walk of legacy\, symbolizing Chase’s enduring presence in the campus community. It is not only a marker of remembrance\, but a physical testament to the strength of character\, kindness\, and leadership that Chase demonstrated both on and off the court. \nSportsmanship Trophy Presentation\nTrue to Chase’s spirit of grace\, humility\, and generosity in sport\, the Team Chase Foundation now proudly sponsors a Sportsmanship Trophy—awarded annually to a student-athlete who embodies the values of: \n\nIntegrity\nRespect\nLeadership through kindness\nTeam spirit and humility\n\nPresented in front of peers\, coaches\, and family\, this award is a celebration of character over stats\, just as Chase would have wanted. This honor not only recognizes the individual’s behavior\, but encourages others to lead by example. \nWhy It Matters\nFrom glowing lanterns to engraved stones and heartfelt awards\, these honors and outreach initiatives are quiet but powerful ways to keep Chase’s light shining in the world. \nEvery moment is a reminder that while Chase is no longer physically here\, his legacy lives on through reflection\, recognition\, and outreach—the pillars of the Team Chase Foundation. \n“Let’s keep building. Let’s keep honoring. Let’s keep loving. Let’s get it! Let’s go.”
URL:https://www.teamchasefoundation.org/event/honors-outreach-events/
LOCATION:Rhode Island & New Hampshire\, United States
ATTACH;FMTTYPE=image/jpeg:https://www.teamchasefoundation.org/wp-content/uploads/2025/05/Honors-outreach-events.jpg
END:VEVENT
END:VCALENDAR