BEGIN:VCALENDAR
VERSION:2.0
PRODID:-//Team Chase Foundation - ECPv6.15.20//NONSGML v1.0//EN
CALSCALE:GREGORIAN
METHOD:PUBLISH
X-WR-CALNAME:Team Chase Foundation
X-ORIGINAL-URL:https://www.teamchasefoundation.org
X-WR-CALDESC:Events for Team Chase Foundation
REFRESH-INTERVAL;VALUE=DURATION:PT1H
X-Robots-Tag:noindex
X-PUBLISHED-TTL:PT1H
BEGIN:VTIMEZONE
TZID:America/New_York
BEGIN:DAYLIGHT
TZOFFSETFROM:-0500
TZOFFSETTO:-0400
TZNAME:EDT
DTSTART:20210314T070000
END:DAYLIGHT
BEGIN:STANDARD
TZOFFSETFROM:-0400
TZOFFSETTO:-0500
TZNAME:EST
DTSTART:20211107T060000
END:STANDARD
BEGIN:DAYLIGHT
TZOFFSETFROM:-0500
TZOFFSETTO:-0400
TZNAME:EDT
DTSTART:20220313T070000
END:DAYLIGHT
BEGIN:STANDARD
TZOFFSETFROM:-0400
TZOFFSETTO:-0500
TZNAME:EST
DTSTART:20221106T060000
END:STANDARD
BEGIN:DAYLIGHT
TZOFFSETFROM:-0500
TZOFFSETTO:-0400
TZNAME:EDT
DTSTART:20230312T070000
END:DAYLIGHT
BEGIN:STANDARD
TZOFFSETFROM:-0400
TZOFFSETTO:-0500
TZNAME:EST
DTSTART:20231105T060000
END:STANDARD
BEGIN:DAYLIGHT
TZOFFSETFROM:-0500
TZOFFSETTO:-0400
TZNAME:EDT
DTSTART:20240310T070000
END:DAYLIGHT
BEGIN:STANDARD
TZOFFSETFROM:-0400
TZOFFSETTO:-0500
TZNAME:EST
DTSTART:20241103T060000
END:STANDARD
BEGIN:DAYLIGHT
TZOFFSETFROM:-0500
TZOFFSETTO:-0400
TZNAME:EDT
DTSTART:20250309T070000
END:DAYLIGHT
BEGIN:STANDARD
TZOFFSETFROM:-0400
TZOFFSETTO:-0500
TZNAME:EST
DTSTART:20251102T060000
END:STANDARD
END:VTIMEZONE
BEGIN:VEVENT
DTSTART;TZID=America/New_York:20240119T120000
DTEND;TZID=America/New_York:20240119T160000
DTSTAMP:20260421T052828
CREATED:20250517T165151Z
LAST-MODIFIED:20250529T152731Z
UID:10000012-1705665600-1705680000@www.teamchasefoundation.org
SUMMARY:Kindness Night
DESCRIPTION:A Basketball Celebration of Kindness\, Community & Chase\nJoin us at Falmouth High School for a very special Kindness Night—an evening dedicated to honoring the values that defined Chase Soares’ life: kindness\, compassion\, and unity through community and sport. \nThis exciting basketball-themed event is more than a game—it’s a celebration of character\, sportsmanship\, and the power of small acts of kindness to make a big impact. \nWhy Kindness Night Matters:\nChase was known not only for his talent on the court but for the warmth and generosity he showed to everyone around him. He didn’t just play basketball—he used it as a bridge to connect with others\, lift their spirits\, and make them feel seen\, heard\, and valued. \nKindness Night continues this legacy by bringing together students\, families\, athletes\, and the local community in a spirited and uplifting atmosphere—all centered around spreading goodness and celebrating each other. \nEvent Highlights:\n\nVarsity Basketball Matchup at Falmouth High School\nKindness Recognition Moments during halftime\nStudent & Community Kindness Shoutouts\nTeam Chase Foundation Booth with giveaways\, info\, and merchandise\nKindness Challenges & Giveaways for attendees\n\nWhether you’re in the stands or on the court\, your presence supports the movement to Care\, Help\, And Share Everyday—Chase’s timeless message to the world. \nHow You Can Participate:\n\nWear your Team Chase Foundation gear or colors\nCome with a kindness story to share or celebrate\nBring friends\, family\, and positive energy\n\nLet’s celebrate kindness the way Chase lived—out loud\, in motion\, and with a heart full of love. \nLet’s get it! Let’s go!\nChase kindness. Pass it on.
URL:https://www.teamchasefoundation.org/event/kindness-night-at-falmouth-high/
LOCATION:Falmouth High School\, MA\, United States
ATTACH;FMTTYPE=image/jpeg:https://www.teamchasefoundation.org/wp-content/uploads/2025/05/Kindness-night.jpg
END:VEVENT
BEGIN:VEVENT
DTSTART;TZID=America/New_York:20231202T110000
DTEND;TZID=America/New_York:20231202T160000
DTSTAMP:20260421T052828
CREATED:20250417T163833Z
LAST-MODIFIED:20250529T152604Z
UID:10000004-1701514800-1701532800@www.teamchasefoundation.org
SUMMARY:Food & Toy Drive
DESCRIPTION:The Team Chase Foundation\, in collaboration with the Falmouth Police Department\, is proud to host a holiday-themed Stuff-a-Cruiser Food & Toy Drive to support local families in need this season. \nThis special event\, full of community spirit\, generosity\, and holiday cheer\, is more than just a donation drive—it’s an opportunity to bring warmth\, joy\, and hope to families who need it most. Let’s come together to Care\, Help\, and Share Everyday\, just as Chase Soares did throughout his inspiring life. \nWhat We’re Collecting:\n\nNon-perishable food items (e.g.\, canned goods\, boxed meals\, snacks)\nNew\, unwrapped toys for children of all ages\n\nAll donations will go directly to local families through our community distribution network to help ensure no child goes without a gift and no table goes empty this holiday season. \nEvent Features:\n\nLive Music by DJ Sturdy to keep the energy festive\nTurkey Dinner Raffle – Enter to win a full Thanksgiving-style meal!\n50/50 Raffle – Win cash while supporting a great cause\nHoliday-themed fun for all ages\n“Stuff-a-Cruiser” – Watch as we pack a police cruiser full of holiday kindness\n\nEvent Details:\nHost: Team Chase Foundation + Falmouth Police Department \nWebsite: www.teamchasefoundation.org \nWhy It Matters:\nThis event is inspired by the legacy of Chase Soares\, a young man known for his boundless kindness and passion for helping others. Every food item and toy you donate continues Chase’s mission of compassion and generosity\, making the world a little brighter for someone in need. \nTogether\, we can fill a cruiser—and hearts—with the true spirit of the season.
URL:https://www.teamchasefoundation.org/event/food-toy-drive/
LOCATION:Walmart Falmouth\, MA\, United States
ATTACH;FMTTYPE=image/jpeg:https://www.teamchasefoundation.org/wp-content/uploads/2025/04/Food-toy-drive-1.jpg
END:VEVENT
BEGIN:VEVENT
DTSTART;VALUE=DATE:20230820
DTEND;VALUE=DATE:20230821
DTSTAMP:20260421T052828
CREATED:20250417T164406Z
LAST-MODIFIED:20250529T152534Z
UID:10000005-1692489600-1692575999@www.teamchasefoundation.org
SUMMARY:Falmouth Road Race
DESCRIPTION:Run with Purpose. Run for Kindness. Run for Chase.\nJoin us on August 20\, 2023\, as the Team Chase Foundation proudly participates in the Falmouth Road Race—one of the most anticipated running events in New England. This is more than just a race; it’s a chance to honor the legacy of Chase Soares\, uplift our community\, and make every step count toward compassion\, giving\, and hope. \nWhy Run for Team Chase?\nBy running for the Team Chase Foundation\, you become a part of something greater than just crossing the finish line. You are running in memory of Chase Soares\, a kind-hearted\, generous young man whose legacy continues to inspire acts of goodness and unity through our foundation. \nChase believed in making the most of every moment—and that includes lifting others along the way. Every dollar raised supports Team Chase Foundation initiatives\, including: \n\nActs of kindness & community outreach\nYouth empowerment through sports\nFood & toy drives\nLocal family support services\n\nEvent Details:\n\nStart Time: TBD by official race schedule\nContact: teamchasefoundation@yahoo.com\nMore Info: Foundation Page or www.teamchasefoundation.org\n\nRun to benefit Team Chase Foundation!
URL:https://www.teamchasefoundation.org/event/falmouth-road-race/
LOCATION:Falmouth\, MA\, United States
ATTACH;FMTTYPE=image/jpeg:https://www.teamchasefoundation.org/wp-content/uploads/2025/04/Fallmouth-road-race-1.jpg
END:VEVENT
BEGIN:VEVENT
DTSTART;TZID=America/New_York:20230521T120000
DTEND;TZID=America/New_York:20230521T160000
DTSTAMP:20260421T052828
CREATED:20250417T165450Z
LAST-MODIFIED:20250529T152507Z
UID:10000007-1684670400-1684684800@www.teamchasefoundation.org
SUMMARY:Team Chase Foundation 1 Year Anniversary Celebration
DESCRIPTION:A Day of Kindness\, Community & Legacy\nOn Sunday\, May 21\, 2023\, the Team Chase Foundation proudly celebrated a remarkable milestone—one year of spreading kindness\, compassion\, and community impact in loving memory of Chase Soares. Held at the Falmouth Heights Basketball Court\, this event brought together families\, friends\, supporters\, and the entire local community to reflect on our journey and reaffirm our mission: to Care\, Help\, And Share Everyday. \nThis high-energy Family Fun Day & Community Event was not only a celebration of our achievements—it was a tribute to Chase’s enduring spirit of generosity\, joy\, and inspiration. Just as Chase lived his life with purpose and passion\, the event encouraged everyone to live with kindness and togetherness. \nEvent Highlights:\n\nLive DJ bringing the beats all afternoon\nFood trucks serving delicious local eats\nBasketball games\, contests\, & free throw/3-point shootout\nRaffles and giveaways\nKindness Rock Table – decorate and share your message of hope\nLocal artisans & vendors\nCommunity activities\, kids’ games\, & surprises for all ages\n“Together everyone achieves more – care\, help\, and share every day.”\n\nWhy This Event Matters:\nThis anniversary wasn’t just about looking back—it was about building forward. It marked a powerful year of outreach\, kindness challenges\, toy and food drives\, and memorable moments that carried Chase’s legacy far and wide. His impact lives on through every smile\, every basketball bounce\, and every act of giving inspired by his life. \nAs we celebrated Chase’s love for basketball and his passion for lifting others\, we also honored the growing community of supporters\, friends\, and volunteers who believe in our vision for a kinder world. \nEvent Details:\n\nDate: Sunday\, May 21\, 2023\n(Rain Date: Same day)\nTime: 12:00 PM – 4:00 PM\nLocation: Falmouth Heights Basketball Court 263 Grand Ave\, Falmouth\, MA\n\nJoin us for this exciting Family Fun Day and Community Event to celebrate our first year of impact and success!In Memory of Chase Soares\nwww.teamchasefoundation.org
URL:https://www.teamchasefoundation.org/event/team-chase-foundation-1-year-anniversary-celebration/
LOCATION:263 Grand Avenue Falmouth MA\, MA\, United States
ATTACH;FMTTYPE=image/jpeg:https://www.teamchasefoundation.org/wp-content/uploads/2025/04/One-year-anniversary-celebrations-1.jpg
END:VEVENT
BEGIN:VEVENT
DTSTART;TZID=America/New_York:20221113T110000
DTEND;TZID=America/New_York:20221113T160000
DTSTAMP:20260421T052828
CREATED:20250417T165836Z
LAST-MODIFIED:20250528T154259Z
UID:10000008-1668337200-1668355200@www.teamchasefoundation.org
SUMMARY:Team Chase Foundation Food & Toy Drive
DESCRIPTION:Spreading Hope\, Joy\, and Generosity – One Gift at a Time\nThe Team Chase Foundation Food & Toy Drive is a seasonal community initiative that embodies the giving spirit of Chase Soares—a young man whose life radiated kindness\, joy\, and generosity. This event is one of the foundation’s signature outreach efforts\, bringing together people of all ages to help families in need during the holiday season. \nRooted in Chase’s life motto to Care\, Help\, And Share Everyday\, this drive encourages the community to step up and ensure that every child has a reason to smile and every family feels the warmth of compassion. \nEvent Purpose:\nThe holiday season is a time of connection\, celebration\, and gratitude—but for many families\, it can also be a time of hardship. Through this event\, the Team Chase Foundation collects non-perishable food items and new\, unwrapped toys to distribute to local families and children who may otherwise go without. \nThis drive brings together donors\, volunteers\, and supporters to make a tangible difference in the lives of others—just as Chase always strived to do. \nWhat to Donate:\n\nNew & unwrapped toys (for children of all ages)\nNon-perishable food items (canned goods\, pasta\, cereal\, etc.)\nHoliday treats or essentials (e.g. baby items\, hygiene supplies)\n\nAll donations are distributed to local families and shelters in our community. \nWhen & Where:\nThis is an annual event held during the holiday season. Keep an eye on our Facebook page and website for collection dates\, drop-off locations\, and volunteer opportunities. \nWhy It Matters:\nThis isn’t just a food and toy drive—it’s a movement of kindness. Inspired by Chase’s unforgettable smile and giving spirit\, the event reminds us that even small acts of generosity can transform lives. When you give through the Team Chase Foundation\, you are passing on the legacy of someone who made every moment count—and believed in lifting others up. \nLet’s get it! Let’s go!\nJoin us in bringing light to the lives of others—because kindness never goes out of season. \nStay Connected:\nVisit www.teamchasefoundation.org\nFollow us on social media for updates\, stories\, and impact highlights.\n📸 Instagram | 📘 Facebook | 🎵 TikTok
URL:https://www.teamchasefoundation.org/event/team-chase-foundation-food-toy-drive/
LOCATION:Walmart | 137 Teaticket Hwy\, Falmouth\, MA\, United States
ATTACH;FMTTYPE=image/jpeg:https://www.teamchasefoundation.org/wp-content/uploads/2025/04/IMG_1693-e1669752551616.jpg
END:VEVENT
BEGIN:VEVENT
DTSTART;VALUE=DATE:20221025
DTEND;VALUE=DATE:20221026
DTSTAMP:20260421T052828
CREATED:20250417T174116Z
LAST-MODIFIED:20250529T152358Z
UID:10000010-1666656000-1666742399@www.teamchasefoundation.org
SUMMARY:The Chase Challenge Kindness Ball
DESCRIPTION:The Chase Challenge Kindness Ball\n“Pass It On” – One Act of Kindness at a Time \nThe Chase Challenge Kindness Ball is a heart-driven initiative by the Team Chase Foundation that invites everyone—young and old—to carry forward kindness in honor of Chase Soares. \nInspired by Chase’s legacy of generosity\, compassion\, and unshakable kindness\, the Kindness Ball travels from one person to another\, encouraging random acts of kindness along the way. Each person who receives the ball is challenged to “pass it on” by performing their own act of kindness and sharing the experience with others. \nHow It Works:\n\nReceive the Kindness Ball – A special basketball wrapped in the mission of kindness.\nPerform a Random Act of Kindness – No gesture is too small.\nScan the QR Code – Located on the back of the ball to track its journey.\nShare Your Story – Submit your act of kindness to inspire others and enter to win cool prizes!\nPass It On – Keep the momentum going by handing the ball off to someone new.\n\nWhy It Matters:\nThis is more than just a challenge—it’s a movement to change the world with kindness\, one ball at a time. By following the path of the ball\, you can watch how one simple act creates a ripple effect of compassion across communities and borders. \nThis initiative honors Chase Soares\, a young man remembered for his limitless heart and ability to turn strangers into lifelong friends. In his memory\, we keep the spirit of generosity alive by encouraging others to give\, uplift\, and share every day. \nJoin Us!\nGet involved with the Team Chase Foundation and help us spread hope\, love\, and kindness through the Kindness Ball movement. \nLet’s get it! Let’s go!\nwww.teamchasefoundation.org\nFollow us on social media to track the journey and get inspired:\n📸 Instagram | 📘 Facebook | 🎵 TikTok
URL:https://www.teamchasefoundation.org/event/the-chase-challenge-kindness-ball/
LOCATION:MA
ATTACH;FMTTYPE=image/jpeg:https://www.teamchasefoundation.org/wp-content/uploads/2025/04/Challenge-kindness-ball-tour2-1.jpg
END:VEVENT
BEGIN:VEVENT
DTSTART;VALUE=DATE:20220807
DTEND;VALUE=DATE:20220808
DTSTAMP:20260421T052828
CREATED:20250417T170624Z
LAST-MODIFIED:20250529T151355Z
UID:10000009-1659830400-1659916799@www.teamchasefoundation.org
SUMMARY:The Chase Challenge Kindness Ball Tour
DESCRIPTION:One Ball. Fifty States. Countless Acts of Kindness.\nThe Team CHASE Foundation proudly presents The Chase Challenge Kindness Ball Tour\, a powerful and heartfelt journey designed to spread Chase Soares’s legacy of kindness across the United States—one pass and one act at a time. \nWith a simple basketball as its symbol and kindness as its mission\, this tour is creating ripples of hope from city to city\, state to state. \nWhat is the Kindness Ball Tour?\nAt the heart of the tour is a special Kindness Ball passed from one person to the next\, across towns\, schools\, and communities. Each recipient is challenged to complete an act of kindness before passing it on—and to share their impact by scanning the QR code on the ball. \nEach stop is tracked and documented\, building a map of kindness in real time. From Massachusetts to Georgia and beyond\, Chase’s message is moving forward—literally. \nStates Visited So Far:\nAs illustrated in the map\, the Kindness Ball has already reached and impacted lives in: \n\nMassachusetts\nNew York\nPennsylvania\nMaryland\nGeorgia\n\n…and it’s just getting started. \n“Together Everyone Achieves More. Care. Help. And. Share. Everyday.”\n— The CHASE in TEAM CHASE \nTouring with Purpose\nThe tour is supported by the Team Chase Foundation’s custom orange Kindness Van\, traveling with volunteers and team members who engage communities with events\, kindness challenges\, and education about Chase’s story. \nEach stop includes: \n\nSchool and youth outreach\nSurprise giveaways (like Chase’s limited-edition snowballs)\nCommunity service pop-ups\nA celebration of kindness in action\n\nThe Impact\nEvery act of kindness\, no matter how small\, builds Chase’s legacy. The Kindness Ball has helped: \n\nEmpower students to start peer-initiated kindness clubs\nEncourage strangers to donate time\, meals\, and gifts\nReignite hope and connection in communities post-COVID\n\nHow to Get Involved:\n\nNominate your town or school to be part of the tour\nRequest a Kindness Ball Challenge starter kit\nFollow the journey live: www.teamchasefoundation.org\nShare your act of kindness using #ChaseChallenge #KindnessBall #LetItBounce\n\nWhy It Matters\nThe Chase Challenge is more than a movement—it’s a mission to remind the world that kindness is a powerful legacy. Every pass of the ball honors Chase. Every smile keeps his spirit alive. \n“Let’s get it. Let’s go!” — Chase Soares
URL:https://www.teamchasefoundation.org/event/the-chase-challenge-kindness-ball-tour/
LOCATION:MA
ATTACH;FMTTYPE=image/jpeg:https://www.teamchasefoundation.org/wp-content/uploads/2025/04/Challenge-kindness-ball-tour-v2.jpg
END:VEVENT
BEGIN:VEVENT
DTSTART;TZID=America/New_York:20220515T120000
DTEND;TZID=America/New_York:20220515T150000
DTSTAMP:20260421T052828
CREATED:20250417T174527Z
LAST-MODIFIED:20250529T153646Z
UID:10000011-1652616000-1652626800@www.teamchasefoundation.org
SUMMARY:Team CHASE Foundation Launch Party
DESCRIPTION:The Team CHASE Foundation will hold a launch party on Sunday\, May 15\, from noon to 3 PM. Team CHASE is a nonprofit organization founded by the family of Chase Soares\, who was killed in an automobile accident in 2020. \nThe son of Brooke and Norman DeBarros\, Chase was a 2014 graduate of Falmouth High School. A varsity basketball player at FHS\, his greatest passion was basketball. Chase was a role model both on and off the court to aspiring athletes\, as a volunteer coach to Falmouth youth\, and as a pen pal to Morse Pond School students. Chase embodied kindness\, possessing an emotional intelligence beyond his years from a very young age. He was also an artist who expressed his highly evolved spiritual nature in his artwork. \nTeam CHASE aims to give back to the community both locally and beyond in multiple ways\, such as scholarships and funding for youth athletic and educational initiatives for underserved communities.
URL:https://www.teamchasefoundation.org/event/team-chase-foundation-launch-party/
LOCATION:Falmouth Heights Basketball Court\, MA\, United States
ATTACH;FMTTYPE=image/jpeg:https://www.teamchasefoundation.org/wp-content/uploads/2025/04/Foundation-launch-party.jpg
END:VEVENT
END:VCALENDAR